BEGIN:VCALENDAR
VERSION:2.0
PRODID:icalendar-ruby
CALSCALE:GREGORIAN
METHOD:PUBLISH
BEGIN:VEVENT
DTSTAMP:20260421T152129Z
UID:43-752618@newgwc.com
DTSTART:20260923T223000Z
DTEND:20260923T233000Z
CLASS:PUBLIC
CREATED:20260421T094256
DESCRIPTION:This Bible study is designed for beginners and anyone intereste
 d in deepening their understanding of the Scriptures. Participants will ex
 plore the lives of different individuals mentioned in the Bible\, learning
  about their unique stories\, challenges\, and faith journeys. Additionall
 y\, the study will focus on the characteristics of Jesus\, examining His t
 eachings\, actions\, and the profound impact He has on believers. This wel
 coming environment encourages questions and discussions\, making it a perf
 ect space for all who wish to grow spiritually and connect with others in 
 faith. Whether you are new to the Bible or looking to enhance your knowled
 ge\, all are invited to join and learn together.
LAST-MODIFIED:20260421T094256
LOCATION:3025 South Military Hwy\, Chesapeake VA\, 23323
SUMMARY:Bible Study
URL;VALUE=URI:https://www.newgwc.com/events/bible-study--43/2026-09-23
ATTACH;FILENAME=IMG_0186.jpeg;FMTTYPE=image/jpeg:https://dq5pwpg1q8ru0.clou
 dfront.net/2025/01/26/01/13/16/c06a3efd-2ec0-47fe-b026-3561b1ed96a1/IMG_01
 86.jpeg
ATTACH;FILENAME=mohamed-nohassi-odxB5oIG_iA-unsplash.jpg;FMTTYPE=image/jpeg
 :https://dq5pwpg1q8ru0.cloudfront.net/2025/04/05/20/11/08/843275e1-7125-4a
 86-98a7-69314e6f1ad2/mohamed-nohassi-odxB5oIG_iA-unsplash.jpg
END:VEVENT
END:VCALENDAR
